BEGIN:VCALENDAR
VERSION:2.0
PRODID:-//Aldridge Lodge 7921 - ECPv4.9.5//NONSGML v1.0//EN
CALSCALE:GREGORIAN
METHOD:PUBLISH
X-WR-CALNAME:Aldridge Lodge 7921
X-ORIGINAL-URL:https://www.aldridgelodge7921.co.uk
X-WR-CALDESC:Events for Aldridge Lodge 7921
BEGIN:VTIMEZONE
TZID:"Europe/London"
BEGIN:DAYLIGHT
TZOFFSETFROM:+0000
TZOFFSETTO:+0100
TZNAME:BST
DTSTART:20200329T010000
END:DAYLIGHT
BEGIN:STANDARD
TZOFFSETFROM:+0100
TZOFFSETTO:+0000
TZNAME:GMT
DTSTART:20201025T010000
END:STANDARD
END:VTIMEZONE
BEGIN:VEVENT
DTSTART;TZID="Europe/London":20200221T190000
DTEND;TZID="Europe/London":20200221T230000
DTSTAMP:20260420T182937
CREATED:20190822T104833Z
LAST-MODIFIED:20200209T133521Z
UID:9073-1582311600-1582326000@www.aldridgelodge7921.co.uk
SUMMARY:Fun Quiz Night
DESCRIPTION:
URL:https://www.aldridgelodge7921.co.uk/event/fun-quiz-night/
LOCATION:Aldridge Compass Suites\, The Green\, Aldridge\, Walsall\, WS9 8NH\, United Kingdom
CATEGORIES:Socials
END:VEVENT
END:VCALENDAR