BEGIN:VCALENDAR
VERSION:2.0
PRODID:-//Aldridge Lodge 7921 - ECPv4.9.5//NONSGML v1.0//EN
CALSCALE:GREGORIAN
METHOD:PUBLISH
X-WR-CALNAME:Aldridge Lodge 7921
X-ORIGINAL-URL:https://www.aldridgelodge7921.co.uk
X-WR-CALDESC:Events for Aldridge Lodge 7921
BEGIN:VTIMEZONE
TZID:"Europe/London"
BEGIN:DAYLIGHT
TZOFFSETFROM:+0000
TZOFFSETTO:+0100
TZNAME:BST
DTSTART:20210328T010000
END:DAYLIGHT
BEGIN:STANDARD
TZOFFSETFROM:+0100
TZOFFSETTO:+0000
TZNAME:GMT
DTSTART:20211031T010000
END:STANDARD
END:VTIMEZONE
BEGIN:VEVENT
DTSTART;TZID="Europe/London":20211011T173000
DTEND;TZID="Europe/London":20211011T220000
DTSTAMP:20260424T104716
CREATED:20190516T204804Z
LAST-MODIFIED:20211022T095144Z
UID:8992-1633973400-1633989600@www.aldridgelodge7921.co.uk
SUMMARY:Installation Meeting
DESCRIPTION:Under Covid Rule 8 the elections will take place at this meeting before the Installation. \n
URL:https://www.aldridgelodge7921.co.uk/event/installation-meeting/
LOCATION:Aldridge Compass Suites\, The Green\, Aldridge\, Walsall\, WS9 8NH\, United Kingdom
CATEGORIES:Lodge Meetings
END:VEVENT
END:VCALENDAR