BEGIN:VCALENDAR
VERSION:2.0
PRODID:-//Aldridge Lodge 7921 - ECPv4.9.5//NONSGML v1.0//EN
CALSCALE:GREGORIAN
METHOD:PUBLISH
X-WR-CALNAME:Aldridge Lodge 7921
X-ORIGINAL-URL:https://www.aldridgelodge7921.co.uk
X-WR-CALDESC:Events for Aldridge Lodge 7921
BEGIN:VTIMEZONE
TZID:"Europe/London"
BEGIN:DAYLIGHT
TZOFFSETFROM:+0000
TZOFFSETTO:+0100
TZNAME:BST
DTSTART:20220327T010000
END:DAYLIGHT
BEGIN:STANDARD
TZOFFSETFROM:+0100
TZOFFSETTO:+0000
TZNAME:GMT
DTSTART:20221030T010000
END:STANDARD
END:VTIMEZONE
BEGIN:VEVENT
DTSTART;TZID="Europe/London":20220314T180000
DTEND;TZID="Europe/London":20220314T220000
DTSTAMP:20260424T105234
CREATED:20190807T133941Z
LAST-MODIFIED:20211105T164233Z
UID:9046-1647280800-1647295200@www.aldridgelodge7921.co.uk
SUMMARY:Lodge Meeting - Initiation
DESCRIPTION:
URL:https://www.aldridgelodge7921.co.uk/event/lodge-meeting-5/
LOCATION:Aldridge Compass Suites\, The Green\, Aldridge\, Walsall\, WS9 8NH\, United Kingdom
CATEGORIES:Lodge Meetings
END:VEVENT
END:VCALENDAR