BEGIN:VCALENDAR
VERSION:2.0
PRODID:-//Aldridge Lodge 7921 - ECPv4.9.5//NONSGML v1.0//EN
CALSCALE:GREGORIAN
METHOD:PUBLISH
X-WR-CALNAME:Aldridge Lodge 7921
X-ORIGINAL-URL:https://www.aldridgelodge7921.co.uk
X-WR-CALDESC:Events for Aldridge Lodge 7921
BEGIN:VTIMEZONE
TZID:"Europe/London"
BEGIN:DAYLIGHT
TZOFFSETFROM:+0000
TZOFFSETTO:+0100
TZNAME:BST
DTSTART:20200329T010000
END:DAYLIGHT
BEGIN:STANDARD
TZOFFSETFROM:+0100
TZOFFSETTO:+0000
TZNAME:GMT
DTSTART:20201025T010000
END:STANDARD
BEGIN:DAYLIGHT
TZOFFSETFROM:+0000
TZOFFSETTO:+0100
TZNAME:BST
DTSTART:20210328T010000
END:DAYLIGHT
BEGIN:STANDARD
TZOFFSETFROM:+0100
TZOFFSETTO:+0000
TZNAME:GMT
DTSTART:20211031T010000
END:STANDARD
END:VTIMEZONE
BEGIN:VEVENT
DTSTART;TZID="Europe/London":20200302T180000
DTEND;TZID="Europe/London":20210809T190000
DTSTAMP:20260420T201239
CREATED:20190807T134602Z
LAST-MODIFIED:20210511T084032Z
UID:9061-1583172000-1628535600@www.aldridgelodge7921.co.uk
SUMMARY:Twice Monthly Lodge Members 'online' chat
DESCRIPTION:Held on the first and second Monday of each Month during pandemic. \n
URL:https://www.aldridgelodge7921.co.uk/event/officers-loi-5/
LOCATION:Online Meeting\, United Kingdom
CATEGORIES:Other
END:VEVENT
END:VCALENDAR