BEGIN:VCALENDAR
VERSION:2.0
PRODID:-//Aldridge Lodge 7921 - ECPv4.9.5//NONSGML v1.0//EN
CALSCALE:GREGORIAN
METHOD:PUBLISH
X-WR-CALNAME:Aldridge Lodge 7921
X-ORIGINAL-URL:https://www.aldridgelodge7921.co.uk
X-WR-CALDESC:Events for Aldridge Lodge 7921
BEGIN:VTIMEZONE
TZID:"Europe/London"
BEGIN:DAYLIGHT
TZOFFSETFROM:+0000
TZOFFSETTO:+0100
TZNAME:BST
DTSTART:20240331T010000
END:DAYLIGHT
BEGIN:STANDARD
TZOFFSETFROM:+0100
TZOFFSETTO:+0000
TZNAME:GMT
DTSTART:20241027T010000
END:STANDARD
END:VTIMEZONE
BEGIN:VEVENT
DTSTART;TZID="Europe/London":20240525T193000
DTEND;TZID="Europe/London":20240525T230000
DTSTAMP:20260420T134221
CREATED:20240107T151339Z
LAST-MODIFIED:20240107T151339Z
UID:21877-1716665400-1716678000@www.aldridgelodge7921.co.uk
SUMMARY:Quiz Night
DESCRIPTION:Our annual fun Quiz Night will be held on Saturday 25th May 2024. \n
URL:https://www.aldridgelodge7921.co.uk/event/quiz-night-2/
END:VEVENT
END:VCALENDAR